BEGIN:VCALENDAR
VERSION:2.0
PRODID:Linklings LLC
BEGIN:VTIMEZONE
TZID:Europe/Stockholm
X-LIC-LOCATION:Europe/Stockholm
BEGIN:DAYLIGHT
TZOFFSETFROM:+0100
TZOFFSETTO:+0200
TZNAME:CEST
DTSTART:19700308T020000
RRULE:FREQ=YEARLY;BYMONTH=3;BYDAY=-1SU
END:DAYLIGHT
BEGIN:STANDARD
TZOFFSETFROM:+0200
TZOFFSETTO:+0100
TZNAME:CET
DTSTART:19701101T020000
RRULE:FREQ=YEARLY;BYMONTH=10;BYDAY=-1SU
END:STANDARD
END:VTIMEZONE
BEGIN:VEVENT
DTSTAMP:20241120T082409Z
LOCATION:HG D 1.2
DTSTART;TZID=Europe/Stockholm:20240604T160000
DTEND;TZID=Europe/Stockholm:20240604T163000
UID:submissions.pasc-conference.org_PASC24_sess124_msa281@linklings.com
SUMMARY:Parallel Algorithms for Dynamic Graph Clustering
DESCRIPTION:Minisymposium\n\nJohannes Langguth (Simula Research Laboratory
 , University of Bergen)\n\nWe consider the problem of incremental graph cl
 ustering where the graph to be clustered is given as a sequence of disjoin
 t subsets of the edge set. The problem appears when dealing with graphs th
 at are created over time, such as online social networks where new users a
 ppear continuously, or protein interaction networks when new proteins are 
 discovered. For very large graphs, it is computationally too expensive to 
 repeatedly apply standard clustering algorithms.\nInstead, algorithms whos
 e time complexity only depends on the size of the incoming subset of edges
  in every step are needed. At the same time, such algorithms should find c
 lusterings whose quality is close to that produced by offline algorithms. 
 We discuss the computational model and present an incremental clustering a
 lgorithm, along with its parallel implementation. The scalability results 
 suggest that our method is well suited for clustering massive graphs with 
 acceptable running times while retaining a large fraction of the clusterin
 g quality.\n\nDomain: Computational Methods and Applied Mathematics\n\nSes
 sion Chairs: Dimosthenis Pasadakis (Università della Svizzera italiana) an
 d Olaf Schenk (Università della Svizzera italiana, ETH Zurich)
END:VEVENT
END:VCALENDAR
