BEGIN:VCALENDAR
VERSION:2.0
PRODID:Linklings LLC
BEGIN:VTIMEZONE
TZID:Europe/Stockholm
X-LIC-LOCATION:Europe/Stockholm
BEGIN:DAYLIGHT
TZOFFSETFROM:+0100
TZOFFSETTO:+0200
TZNAME:CEST
DTSTART:19700308T020000
RRULE:FREQ=YEARLY;BYMONTH=3;BYDAY=-1SU
END:DAYLIGHT
BEGIN:STANDARD
TZOFFSETFROM:+0200
TZOFFSETTO:+0100
TZNAME:CET
DTSTART:19701101T020000
RRULE:FREQ=YEARLY;BYMONTH=10;BYDAY=-1SU
END:STANDARD
END:VTIMEZONE
BEGIN:VEVENT
DTSTAMP:20241120T082409Z
LOCATION:HG F 26.3
DTSTART;TZID=Europe/Stockholm:20240605T130000
DTEND;TZID=Europe/Stockholm:20240605T133000
UID:submissions.pasc-conference.org_PASC24_sess126_msa102@linklings.com
SUMMARY:Discussion Session
DESCRIPTION:Minisymposium\n\nEike Mueller (University of Bath) and Tobias 
 Weinzierl (Durham University)\n\nThis session will be an open discussion o
 f how the respective advantages of sophisticated traditional simulation te
 chniques and ML algorithms can be combined productively.\n\nDomain: Climat
 e, Weather, and Earth Sciences, Engineering, Physics, Computational Method
 s and Applied Mathematics\n\nSession Chairs: Eike Mueller (University of B
 ath) and Tobias Weinzierl (Durham University)
END:VEVENT
END:VCALENDAR
