BEGIN:VCALENDAR
VERSION:2.0
PRODID:Linklings LLC
BEGIN:VTIMEZONE
TZID:Europe/Stockholm
X-LIC-LOCATION:Europe/Stockholm
BEGIN:DAYLIGHT
TZOFFSETFROM:+0100
TZOFFSETTO:+0200
TZNAME:CEST
DTSTART:19700308T020000
RRULE:FREQ=YEARLY;BYMONTH=3;BYDAY=-1SU
END:DAYLIGHT
BEGIN:STANDARD
TZOFFSETFROM:+0200
TZOFFSETTO:+0100
TZNAME:CET
DTSTART:19701101T020000
RRULE:FREQ=YEARLY;BYMONTH=10;BYDAY=-1SU
END:STANDARD
END:VTIMEZONE
BEGIN:VEVENT
DTSTAMP:20241120T082409Z
LOCATION:HG F 26.3
DTSTART;TZID=Europe/Stockholm:20240605T123000
DTEND;TZID=Europe/Stockholm:20240605T130000
UID:submissions.pasc-conference.org_PASC24_sess126_msa114@linklings.com
SUMMARY:High Performance Computing for Different First Order Formulations 
 of the Einstein Equations
DESCRIPTION:Minisymposium\n\nOlindo Zanotti (University of Trento)\n\nThe 
 solution of the Einstein--Euler equations by the vast majority of numerica
 l codes is still based on traditional finite difference schemes\nfor the E
 instein sector, while it relies on conservative schemes for the matter par
 t. Discontinuous Galerkin  (DG) schemes, in spite of many potential\nadvan
 tages, have not reached a mature stage yet. I will compare performances of
  a new class of finite difference schemes for the full Einstein--Euler\neq
 uations with DG schemes, showing possible future directions of research th
 at may promote DG schemes to be the dominant ones in a future with exascal
 e hardware. In the last part of the talk I will discuss the impact of  mac
 hine learning on the data analysis of gravitational waves observations.\n\
 nDomain: Climate, Weather, and Earth Sciences, Engineering, Physics, Compu
 tational Methods and Applied Mathematics\n\nSession Chairs: Eike Mueller (
 University of Bath) and Tobias Weinzierl (Durham University)
END:VEVENT
END:VCALENDAR
