BEGIN:VCALENDAR
VERSION:2.0
PRODID:Linklings LLC
BEGIN:VTIMEZONE
TZID:Europe/Stockholm
X-LIC-LOCATION:Europe/Stockholm
BEGIN:DAYLIGHT
TZOFFSETFROM:+0100
TZOFFSETTO:+0200
TZNAME:CEST
DTSTART:19700308T020000
RRULE:FREQ=YEARLY;BYMONTH=3;BYDAY=-1SU
END:DAYLIGHT
BEGIN:STANDARD
TZOFFSETFROM:+0200
TZOFFSETTO:+0100
TZNAME:CET
DTSTART:19701101T020000
RRULE:FREQ=YEARLY;BYMONTH=10;BYDAY=-1SU
END:STANDARD
END:VTIMEZONE
BEGIN:VEVENT
DTSTAMP:20241120T082409Z
LOCATION:HG E 1.1
DTSTART;TZID=Europe/Stockholm:20240604T113000
DTEND;TZID=Europe/Stockholm:20240604T120000
UID:submissions.pasc-conference.org_PASC24_sess146_msa223@linklings.com
SUMMARY:Large Language Models and Agentic Systems for Bio-Inspired Materia
 ls Design
DESCRIPTION:Minisymposium\n\nRachel Luu and Markus Buehler (Massachusetts 
 Institute of Technology)\n\nFrom seashells to mammal hooves to plant stems
 , biological materials have long captivated materials scientists and mecha
 nical engineers due to their impressive hierarchical structure-property re
 lationships. By understanding biological insights and motifs, the design o
 f bio-inspired materials is empowered and poised to benefit a diverse rang
 e of applications, including sustainability. Modern generative AI framewor
 ks, especially large language models (LLMs), show remarkable potential for
  science-focused applications, excelling notably in the study of biologica
 l materials through the utilization of rich legacy literature. We present 
 BioinspiredLLM, an open-source conversational large language model that wa
 s finetuned on a corpus of biological materials literature. The model show
 s strong abilities in knowledge recall, creative hypothesis generation, an
 d seamless integration into multi-agent systems. Multi-agent/agentic syste
 ms facilitate the interaction of multiple advanced AI systems, thereby exp
 anding the scope of knowledge, enhancing data retrieval capabilities, and 
 fostering critical thinking. This approach is demonstrated through multipl
 e bio-inspired materials design scenarios.\n\nDomain: Chemistry and Materi
 als\n\nSession Chair: John Gounley (Oak Ridge National Laboratory)
END:VEVENT
END:VCALENDAR
