BEGIN:VCALENDAR
VERSION:2.0
PRODID:Linklings LLC
BEGIN:VTIMEZONE
TZID:Europe/Stockholm
X-LIC-LOCATION:Europe/Stockholm
BEGIN:DAYLIGHT
TZOFFSETFROM:+0100
TZOFFSETTO:+0200
TZNAME:CEST
DTSTART:19700308T020000
RRULE:FREQ=YEARLY;BYMONTH=3;BYDAY=-1SU
END:DAYLIGHT
BEGIN:STANDARD
TZOFFSETFROM:+0200
TZOFFSETTO:+0100
TZNAME:CET
DTSTART:19701101T020000
RRULE:FREQ=YEARLY;BYMONTH=10;BYDAY=-1SU
END:STANDARD
END:VTIMEZONE
BEGIN:VEVENT
DTSTAMP:20241120T082408Z
LOCATION:
DTSTART;TZID=Europe/Stockholm:20240603T200000
DTEND;TZID=Europe/Stockholm:20240603T230000
UID:submissions.pasc-conference.org_PASC24_sess166@linklings.com
SUMMARY:Optional Evening Event (separate registration required)
DESCRIPTION:Dinner\n\nFULLY BOOKED\n\nPASC24 Optional Social Dinner\n\nThe
  PASC24 Conference Organizing Team is pleased to invite participants to at
 tend an optional social evening event on Monday, June 3, 2024. This dinner
  is not included in the registration fee and can be booked as a supplement
 ary option. Please note that space is limited, and registrations will clos
 e once we reach maximum capacity.\n\nDate and time: Monday, June 3, 2024, 
 at 20:00\n\nLocation: Restaurant Die Waid\n\nWaidbadstrasse 45 | CH – 8037
  Zürich\n\nRestaurant Die Waid is perched approximately 140 meters above t
 he city, offering breathtaking views of the city, Lake Zurich, and the Gla
 rus Alps. We look forward to an enjoyable night in the company of old and 
 new friends in this spectacular atmosphere.\n\n
END:VEVENT
END:VCALENDAR
