BEGIN:VCALENDAR
VERSION:2.0
PRODID:Linklings LLC
BEGIN:VTIMEZONE
TZID:Europe/Stockholm
X-LIC-LOCATION:Europe/Stockholm
BEGIN:DAYLIGHT
TZOFFSETFROM:+0100
TZOFFSETTO:+0200
TZNAME:CEST
DTSTART:19700308T020000
RRULE:FREQ=YEARLY;BYMONTH=3;BYDAY=-1SU
END:DAYLIGHT
BEGIN:STANDARD
TZOFFSETFROM:+0200
TZOFFSETTO:+0100
TZNAME:CET
DTSTART:19701101T020000
RRULE:FREQ=YEARLY;BYMONTH=10;BYDAY=-1SU
END:STANDARD
END:VTIMEZONE
BEGIN:VEVENT
DTSTAMP:20241120T082410Z
LOCATION:HG F 30 Audi Max
DTSTART;TZID=Europe/Stockholm:20240605T143000
DTEND;TZID=Europe/Stockholm:20240605T153000
UID:submissions.pasc-conference.org_PASC24_sess186_panel101@linklings.com
SUMMARY:PD01 - Science as a Team Sport: How Do We Win Together?
DESCRIPTION:Panel\n\nKatherine Evans (Oak Ridge National Laboratory), Sidd
 hartha Mishra (ETH Zurich), Ewa Deelman (University of Southern California
 ), Karthik Kashinath (NVIDIA Inc.), Damian Rouson (Lawrence Berkeley Natio
 nal Laboratory), and Michela Taufer (University of Tennessee)\n\nThis pane
 l discussion will focus on the PASC24 theme: Synthesizing Applications thr
 ough Learning and Computing. The panel will explore some of the specific c
 hallenges with opportunities when combining models, methods, and data from
  multiple domains, merging computing, learning, and simulation techniques,
  and explaining and bounding accuracy and uncertainties.\n\nSession Chairs
 : Katherine Evans (Oak Ridge National Laboratory) and Siddhartha Mishra (E
 TH Zurich)
END:VEVENT
END:VCALENDAR
