BEGIN:VCALENDAR
VERSION:2.0
PRODID:Linklings LLC
BEGIN:VTIMEZONE
TZID:Europe/Stockholm
X-LIC-LOCATION:Europe/Stockholm
BEGIN:DAYLIGHT
TZOFFSETFROM:+0100
TZOFFSETTO:+0200
TZNAME:CEST
DTSTART:19700308T020000
RRULE:FREQ=YEARLY;BYMONTH=3;BYDAY=-1SU
END:DAYLIGHT
BEGIN:STANDARD
TZOFFSETFROM:+0200
TZOFFSETTO:+0100
TZNAME:CET
DTSTART:19701101T020000
RRULE:FREQ=YEARLY;BYMONTH=10;BYDAY=-1SU
END:STANDARD
END:VTIMEZONE
BEGIN:VEVENT
DTSTAMP:20241120T082408Z
LOCATION:HG F 30 Audi Max
DTSTART;TZID=Europe/Stockholm:20240605T153000
DTEND;TZID=Europe/Stockholm:20240605T160000
UID:submissions.pasc-conference.org_PASC24_sess187@linklings.com
SUMMARY:Closing Session and Awards
DESCRIPTION:Closing\n\nPresentation of ACM Student Research Competition Po
 ster Awards: Jay Lofstead (Sandia National Laboratories, US)\n\nPresentati
 on of PASC24 Best Poster Awards: Katherine Evans (Oak Ridge National Labor
 atory, US) and Siddhartha Mishra (ETH Zurich, Switzerland)\n\nPresentation
  of PASC24 Best Paper Award: Katherine Evans (Oak Ridge National Laborator
 y, US) and Siddhartha Mishra (ETH Zurich, Switzerland)\n\nPASC24 Closing R
 emarks: Katherine Evans (Oak Ridge National Laboratory, US) and Siddhartha
  Mishra (ETH Zurich, Switzerland)\n\nWelcome to PASC25: Laura Grigori (EPF
 L/PSI, Switzerland)\n\n\n\nSession Chairs: Katherine Evans (Oak Ridge Nati
 onal Laboratory) and Siddhartha Mishra (ETH Zurich)
END:VEVENT
END:VCALENDAR
